BEGIN:VCALENDAR
VERSION:2.0
PRODID:-//Eurosmart | The voice of the Digital Security Industry - ECPv5.1.0//NONSGML v1.0//EN
CALSCALE:GREGORIAN
METHOD:PUBLISH
X-WR-CALNAME:Eurosmart | The voice of the Digital Security Industry
X-ORIGINAL-URL:https://www.eurosmart.com
X-WR-CALDESC:Events for Eurosmart | The voice of the Digital Security Industry
BEGIN:VTIMEZONE
TZID:Europe/Brussels
BEGIN:DAYLIGHT
TZOFFSETFROM:+0100
TZOFFSETTO:+0200
TZNAME:CEST
DTSTART:20230326T010000
END:DAYLIGHT
BEGIN:STANDARD
TZOFFSETFROM:+0200
TZOFFSETTO:+0100
TZNAME:CET
DTSTART:20231029T010000
END:STANDARD
END:VTIMEZONE
BEGIN:VEVENT
DTSTART;TZID=Europe/Brussels:20230201T170000
DTEND;TZID=Europe/Brussels:20230201T180000
DTSTAMP:20260420T194506
CREATED:20230103T142848Z
LAST-MODIFIED:20230103T144053Z
UID:18709-1675270800-1675274400@www.eurosmart.com
SUMMARY:Eurosmart PP-0117: Establishing confidence in integrated SIM with an optimised approach to security certification
DESCRIPTION:In recent years\, market forces have been driving the integration of SIM functionality on a System on Chip (SoC)\, creating demand for a new SIM form factor: the integrated SIM. \nCertification is foundational to this effort. As two industry bodies working to champion the adoption of certifications that will strengthen cyber resilience globally\, Eurosmart and Trusted Connectivity Alliance (TCA) are hosting a free to attend webinar that will explain how Eurosmart’s latest Protection Profile (PP-0117) can be used to demonstrate the security of subsystems integrated within a SoC or the microcontroller\, helping accelerate certification without compromising quality.\n \nWhat you will learn:\nWith expert speakers from Eurosmart\, TCA\, German Federal Cybersecurity Authority (BSI)\, GSMA\, SGS Brightsight and Winbond\, the webinar will provide technical guidance and illustrative use cases\, exploring: \n\nThe market forces driving the evolution towards integrated technologies\, and the implications for stakeholders across the ecosystem.\nWhy the new PP-0117 has the potential to improve\nHow the PP-0117 demonstrates a high-level of security and is optimising the security evaluation process. The key differences with the Eurosmart PP-0084 will also be presented.\nHow the GSMA eUICC Security Assurance (eSA) Scheme leverages PP-0117 for integrated eUICC.\n\n \n\nWho should attend:\n\nSIM vendors\nSecurity Application Software Developers\nSecurity IP Providers\nSoC makers\nMobile operators\nDevice manufacturers\nService providers\nTest tool developers\nSecurity laboratories\nRegulators\n\n  \n\nHow to register:\nThe webinar will be held on Wednesday 1 February\, 2023 at 08:00 – 09:00 PST / 17:00 – 18:00 CET and include a live Q&A session during which attendees are invited to submit their questions. If you wish to attend this session\, please register here [Registration form].\n\n\nRegistration \n
URL:https://www.eurosmart.com/events/eurosmart-pp-0117-establishing-confidence-in-integrated-sim-with-an-optimised-approach-to-security-certification/
LOCATION:Virtual event
ATTACH;FMTTYPE=image/png:https://www.eurosmart.com/wp-content/uploads/2023/01/Screenshot-2023-01-03-at-15.22.30.png
END:VEVENT
END:VCALENDAR